BEGIN:VCALENDAR
VERSION:2.0
PRODID:-//Lycée L. Lagrange - Bondy - ECPv6.15.20//NONSGML v1.0//EN
CALSCALE:GREGORIAN
METHOD:PUBLISH
X-WR-CALNAME:Lycée L. Lagrange - Bondy
X-ORIGINAL-URL:https://lyceeleolagrange.fr
X-WR-CALDESC:Évènements pour Lycée L. Lagrange - Bondy
REFRESH-INTERVAL;VALUE=DURATION:PT1H
X-Robots-Tag:noindex
X-PUBLISHED-TTL:PT1H
BEGIN:VTIMEZONE
TZID:Europe/Helsinki
BEGIN:DAYLIGHT
TZOFFSETFROM:+0200
TZOFFSETTO:+0300
TZNAME:EEST
DTSTART:20220327T010000
END:DAYLIGHT
BEGIN:STANDARD
TZOFFSETFROM:+0300
TZOFFSETTO:+0200
TZNAME:EET
DTSTART:20221030T010000
END:STANDARD
BEGIN:DAYLIGHT
TZOFFSETFROM:+0200
TZOFFSETTO:+0300
TZNAME:EEST
DTSTART:20230326T010000
END:DAYLIGHT
BEGIN:STANDARD
TZOFFSETFROM:+0300
TZOFFSETTO:+0200
TZNAME:EET
DTSTART:20231029T010000
END:STANDARD
BEGIN:DAYLIGHT
TZOFFSETFROM:+0200
TZOFFSETTO:+0300
TZNAME:EEST
DTSTART:20240331T010000
END:DAYLIGHT
BEGIN:STANDARD
TZOFFSETFROM:+0300
TZOFFSETTO:+0200
TZNAME:EET
DTSTART:20241027T010000
END:STANDARD
END:VTIMEZONE
BEGIN:VEVENT
DTSTART;VALUE=DATE:20230516
DTEND;VALUE=DATE:20230518
DTSTAMP:20260422T022621
CREATED:20220508T164844Z
LAST-MODIFIED:20230510T131521Z
UID:4164-1684195200-1684367999@lyceeleolagrange.fr
SUMMARY:Votes pour le Challenge Tolérance (Pronote)
DESCRIPTION:Votes concours Challenge de la Tolérance dans les 2 catégories : Affiches / Audios\nVIA PRONOTE\nProductions sur le site : https://lyceeleolagrange.fr/challenge-tolerance-2022/ \nViews: 3
URL:https://lyceeleolagrange.fr/event/votes-pour-le-challenge-tolerance-pronote/
END:VEVENT
BEGIN:VEVENT
DTSTART;VALUE=DATE:20230526
DTEND;VALUE=DATE:20230527
DTSTAMP:20260422T022621
CREATED:20230521T171809Z
LAST-MODIFIED:20230521T171840Z
UID:5382-1685059200-1685145599@lyceeleolagrange.fr
SUMMARY:Journée "Interventions de l’association e-enfance"
DESCRIPTION:Dans le cadre de la protection de l’enfance sur Internet \nIntervenant 1\n* 10h30 à 12h25 2C1 : salle A2 (M. Mokhfi)\n* 13h30 à15h10 2GA1 : salle B4 (Mme Houari)\n* 15h25 à 17h00 1C1 : salle A4 (1ère heure : M. Sarr et 2ème heure M. Madomercandy)\nIntervenant 2\n* 10h30 à 12h25 2C2 : salle A3 (M. Stojkovic / M. Malhomme)\n* 13h20 à 15h10 1GA1 : salle B3 (1ère heure : Mme Hajjar et 2ème heure M. Madomercandy\, Mme Mazouzi)\n* 15H25 à 17H00 1C2 : salle A3 : (1ère heure : M. Baouche / M. Stojkovic / 2ème heure : Mme Gadji / M. Stojkovic) \nViews: 3
URL:https://lyceeleolagrange.fr/event/journee-interventions-de-lassociation-e-enfance/
END:VEVENT
BEGIN:VEVENT
DTSTART;VALUE=DATE:20230529
DTEND;VALUE=DATE:20230603
DTSTAMP:20260422T022621
CREATED:20210103T142458Z
LAST-MODIFIED:20230530T070729Z
UID:2762-1685318400-1685750399@lyceeleolagrange.fr
SUMMARY:Conseils de classe - 1ères et Term
DESCRIPTION:Conseils de classe du 2ème SEMESTRE. \nPlanning CC_S2_2023 \nViews: 3
URL:https://lyceeleolagrange.fr/event/conseils-des-classes-1eres-et-term/
END:VEVENT
END:VCALENDAR