BEGIN:VCALENDAR
VERSION:2.0
PRODID:-//Lycée L. Lagrange - Bondy - ECPv6.15.20//NONSGML v1.0//EN
CALSCALE:GREGORIAN
METHOD:PUBLISH
X-ORIGINAL-URL:https://lyceeleolagrange.fr
X-WR-CALDESC:Évènements pour Lycée L. Lagrange - Bondy
REFRESH-INTERVAL;VALUE=DURATION:PT1H
X-Robots-Tag:noindex
X-PUBLISHED-TTL:PT1H
BEGIN:VTIMEZONE
TZID:Europe/Helsinki
BEGIN:DAYLIGHT
TZOFFSETFROM:+0200
TZOFFSETTO:+0300
TZNAME:EEST
DTSTART:20220327T010000
END:DAYLIGHT
BEGIN:STANDARD
TZOFFSETFROM:+0300
TZOFFSETTO:+0200
TZNAME:EET
DTSTART:20221030T010000
END:STANDARD
BEGIN:DAYLIGHT
TZOFFSETFROM:+0200
TZOFFSETTO:+0300
TZNAME:EEST
DTSTART:20230326T010000
END:DAYLIGHT
BEGIN:STANDARD
TZOFFSETFROM:+0300
TZOFFSETTO:+0200
TZNAME:EET
DTSTART:20231029T010000
END:STANDARD
BEGIN:DAYLIGHT
TZOFFSETFROM:+0200
TZOFFSETTO:+0300
TZNAME:EEST
DTSTART:20240331T010000
END:DAYLIGHT
BEGIN:STANDARD
TZOFFSETFROM:+0300
TZOFFSETTO:+0200
TZNAME:EET
DTSTART:20241027T010000
END:STANDARD
END:VTIMEZONE
BEGIN:VEVENT
DTSTART;TZID=Europe/Helsinki:20230118T000000
DTEND;TZID=Europe/Helsinki:20230309T235959
DTSTAMP:20260422T053444
CREATED:20230102T171942Z
LAST-MODIFIED:20230102T172109Z
UID:4918-1674000000-1678406399@lyceeleolagrange.fr
SUMMARY:ParcourSup : Saisi des vœux
DESCRIPTION:Views: 3
URL:https://lyceeleolagrange.fr/event/parcoursup-saisi-des-voeux/
END:VEVENT
BEGIN:VEVENT
DTSTART;VALUE=DATE:20230306
DTEND;VALUE=DATE:20230312
DTSTAMP:20260422T053444
CREATED:20230123T074457Z
LAST-MODIFIED:20230123T074457Z
UID:5049-1678064400-1678496399@lyceeleolagrange.fr
SUMMARY:Voyage en Italie
DESCRIPTION:Views: 3
URL:https://lyceeleolagrange.fr/event/voyage-en-italie/
END:VEVENT
BEGIN:VEVENT
DTSTART;TZID=Europe/Helsinki:20230308T103000
DTEND;TZID=Europe/Helsinki:20230308T133000
DTSTAMP:20260422T053444
CREATED:20230305T194744Z
LAST-MODIFIED:20230305T194800Z
UID:5148-1678271400-1678282200@lyceeleolagrange.fr
SUMMARY:Sortie cinéma "Corniche Kennedy"
DESCRIPTION:M. Djéha/M. Belloumi / Mme Gadji / Mme Lecomte/ M.Madomercandy / M. Hermann/M. Hugain/ M. Astier/ \nTV/TC2/TGA1/TGA2/TGA3 \nViews: 3
URL:https://lyceeleolagrange.fr/event/sortie-cinema-femmes-au-bord-de-la-crise-de-nerf-2/
END:VEVENT
BEGIN:VEVENT
DTSTART;TZID=Europe/Helsinki:20230310T000000
DTEND;TZID=Europe/Helsinki:20230406T235959
DTSTAMP:20260422T053444
CREATED:20210302T125114Z
LAST-MODIFIED:20230102T170504Z
UID:2931-1678406400-1680825599@lyceeleolagrange.fr
SUMMARY:ParcourSup : compléter son dossier et confirmer ses vœux
DESCRIPTION:Toutes les infos ici : \nhttps://lyceeleolagrange.fr/tag/parcoursup/ \nViews: 3
URL:https://lyceeleolagrange.fr/event/parcoursup-completer-son-dossier-et-confirmer-ses-voeux/
END:VEVENT
BEGIN:VEVENT
DTSTART;VALUE=DATE:20230313
DTEND;VALUE=DATE:20230319
DTSTAMP:20260422T053444
CREATED:20201124T110015Z
LAST-MODIFIED:20230305T195220Z
UID:2566-1678669200-1679101199@lyceeleolagrange.fr
SUMMARY:Conseils de Classe 2ème T - 2de
DESCRIPTION:Views: 3
URL:https://lyceeleolagrange.fr/event/conseils-de-classe-1er-t-2de/
END:VEVENT
BEGIN:VEVENT
DTSTART;TZID=Europe/Helsinki:20230315T190000
DTEND;TZID=Europe/Helsinki:20230315T203000
DTSTAMP:20260422T053444
CREATED:20230305T195046Z
LAST-MODIFIED:20230305T195046Z
UID:5151-1678906800-1678912200@lyceeleolagrange.fr
SUMMARY:Apéritif dinatoire avec des professionnels
DESCRIPTION:Action des TC2 dans le cadre du chef d’œuvre. \nViews: 3
URL:https://lyceeleolagrange.fr/event/aperitif-dinatoire-avec-des-professionnels/
END:VEVENT
BEGIN:VEVENT
DTSTART;TZID=Europe/Helsinki:20230316T153000
DTEND;TZID=Europe/Helsinki:20230316T190000
DTSTAMP:20260422T053444
CREATED:20230314T073034Z
LAST-MODIFIED:20230314T074113Z
UID:5182-1678980600-1678993200@lyceeleolagrange.fr
SUMMARY:2C3 - Sortie les galeries Lafayette
DESCRIPTION:Sortie les galeries Lafayette\nDécouvrir les univers grands magasins \n2MRC3\nM. Baouche / M. Sow \nViews: 3
URL:https://lyceeleolagrange.fr/event/2c3-sortie-les-galeries-lafayette/
END:VEVENT
BEGIN:VEVENT
DTSTART;TZID=Europe/Helsinki:20230318T100000
DTEND;TZID=Europe/Helsinki:20230318T130000
DTSTAMP:20260422T053444
CREATED:20200918T090031Z
LAST-MODIFIED:20230123T074415Z
UID:1982-1679133600-1679144400@lyceeleolagrange.fr
SUMMARY:JPO - Journée "Portes Ouvertes"
DESCRIPTION:Samedi 18 mars 2023\, nous serons en portes ouvertes ! Venez découvrir notre lycée ! \n  \n  \nViews: 3
URL:https://lyceeleolagrange.fr/event/jpo/
END:VEVENT
BEGIN:VEVENT
DTSTART;VALUE=DATE:20230322
DTEND;VALUE=DATE:20230330
DTSTAMP:20260422T053444
CREATED:20221107T141633Z
LAST-MODIFIED:20230305T195456Z
UID:4697-1679443200-1680134399@lyceeleolagrange.fr
SUMMARY:1ères et Tales - Devoirs communs
DESCRIPTION:  \n\n\n\n\n\n\n\n\n\n\nViews: 3
URL:https://lyceeleolagrange.fr/event/tales-devoirs-communs/
END:VEVENT
BEGIN:VEVENT
DTSTART;TZID=Europe/Helsinki:20230323T093000
DTEND;TZID=Europe/Helsinki:20230323T170000
DTSTAMP:20260422T053444
CREATED:20230320T080135Z
LAST-MODIFIED:20230320T080135Z
UID:5202-1679563800-1679590800@lyceeleolagrange.fr
SUMMARY:2F - Sortie à la société Enterprise (citer)
DESCRIPTION:8h30-16h \nViews: 3
URL:https://lyceeleolagrange.fr/event/2f-sortie-a-la-societe-enterprise-citer/
END:VEVENT
BEGIN:VEVENT
DTSTART;TZID=Europe/Helsinki:20230323T140000
DTEND;TZID=Europe/Helsinki:20230323T190000
DTSTAMP:20260422T053444
CREATED:20230320T080245Z
LAST-MODIFIED:20230320T080245Z
UID:5204-1679580000-1679598000@lyceeleolagrange.fr
SUMMARY:MLDS - Sortie à Manpower
DESCRIPTION:13H-18H \nViews: 3
URL:https://lyceeleolagrange.fr/event/mlds-sortie-a-manpower/
END:VEVENT
BEGIN:VEVENT
DTSTART;TZID=Europe/Helsinki:20230324T093000
DTEND;TZID=Europe/Helsinki:20230324T170000
DTSTAMP:20260422T053444
CREATED:20230320T080345Z
LAST-MODIFIED:20230320T080345Z
UID:5206-1679650200-1679677200@lyceeleolagrange.fr
SUMMARY:MLDS - Sortie à la société Enterprise (citer)
DESCRIPTION:Views: 3
URL:https://lyceeleolagrange.fr/event/mlds-sortie-a-la-societe-enterprise-citer/
END:VEVENT
BEGIN:VEVENT
DTSTART;TZID=Europe/Helsinki:20230324T140000
DTEND;TZID=Europe/Helsinki:20230324T190000
DTSTAMP:20260422T053444
CREATED:20230320T080429Z
LAST-MODIFIED:20230320T080429Z
UID:5208-1679666400-1679684400@lyceeleolagrange.fr
SUMMARY:2F - Sortie à Manpower
DESCRIPTION:Views: 3
URL:https://lyceeleolagrange.fr/event/2f-sortie-a-manpower/
END:VEVENT
BEGIN:VEVENT
DTSTART;VALUE=DATE:20230330
DTEND;VALUE=DATE:20230404
DTSTAMP:20260422T053444
CREATED:20220618T113829Z
LAST-MODIFIED:20230320T080005Z
UID:4311-1680134400-1680566399@lyceeleolagrange.fr
SUMMARY:Remise des bulletins 2de
DESCRIPTION:Views: 3
URL:https://lyceeleolagrange.fr/event/remise-des-bulletins-2de-1ere/
END:VEVENT
END:VCALENDAR