BEGIN:VCALENDAR
VERSION:2.0
PRODID:-//Lycée L. Lagrange - Bondy - ECPv6.15.20//NONSGML v1.0//EN
CALSCALE:GREGORIAN
METHOD:PUBLISH
X-ORIGINAL-URL:https://lyceeleolagrange.fr
X-WR-CALDESC:Évènements pour Lycée L. Lagrange - Bondy
REFRESH-INTERVAL;VALUE=DURATION:PT1H
X-Robots-Tag:noindex
X-PUBLISHED-TTL:PT1H
BEGIN:VTIMEZONE
TZID:Europe/Helsinki
BEGIN:DAYLIGHT
TZOFFSETFROM:+0200
TZOFFSETTO:+0300
TZNAME:EEST
DTSTART:20210328T010000
END:DAYLIGHT
BEGIN:STANDARD
TZOFFSETFROM:+0300
TZOFFSETTO:+0200
TZNAME:EET
DTSTART:20211031T010000
END:STANDARD
BEGIN:DAYLIGHT
TZOFFSETFROM:+0200
TZOFFSETTO:+0300
TZNAME:EEST
DTSTART:20220327T010000
END:DAYLIGHT
BEGIN:STANDARD
TZOFFSETFROM:+0300
TZOFFSETTO:+0200
TZNAME:EET
DTSTART:20221030T010000
END:STANDARD
BEGIN:DAYLIGHT
TZOFFSETFROM:+0200
TZOFFSETTO:+0300
TZNAME:EEST
DTSTART:20230326T010000
END:DAYLIGHT
BEGIN:STANDARD
TZOFFSETFROM:+0300
TZOFFSETTO:+0200
TZNAME:EET
DTSTART:20231029T010000
END:STANDARD
END:VTIMEZONE
BEGIN:VEVENT
DTSTART;VALUE=DATE:20220905
DTEND;VALUE=DATE:20220906
DTSTAMP:20260422T144924
CREATED:20210826T193359Z
LAST-MODIFIED:20220826T095218Z
UID:3442-1662336000-1662422399@lyceeleolagrange.fr
SUMMARY:Début des cours & DP
DESCRIPTION:Début des cours et de la demie-pension. \nViews: 3
URL:https://lyceeleolagrange.fr/event/debut-des-cours-dp/
END:VEVENT
BEGIN:VEVENT
DTSTART;TZID=Europe/Helsinki:20220906T180000
DTEND;TZID=Europe/Helsinki:20220906T190000
DTSTAMP:20260422T144924
CREATED:20201005T091602Z
LAST-MODIFIED:20220904T195257Z
UID:2275-1662487200-1662490800@lyceeleolagrange.fr
SUMMARY:Réunion Parents-Professeurs classes 2deGA\, 2F et 1GA3
DESCRIPTION:Views: 3
URL:https://lyceeleolagrange.fr/event/reunion-parents-professeurs/
END:VEVENT
BEGIN:VEVENT
DTSTART;TZID=Europe/Helsinki:20220916T083000
DTEND;TZID=Europe/Helsinki:20220916T140000
DTSTAMP:20260422T144924
CREATED:20220905T111743Z
LAST-MODIFIED:20220912T073325Z
UID:4376-1663317000-1663336800@lyceeleolagrange.fr
SUMMARY:Léolympiades : Journée d'intégration 2de-1GA3
DESCRIPTION:LEOLYMPIADES : tous au stade\n8h30-12h30 : les ateliers\n12h30 -13h30 : repas convivial\n13h30 : remise des récompenses \nViews: 3
URL:https://lyceeleolagrange.fr/event/leolympiades-journee-dintegration-2de-1g3/
END:VEVENT
BEGIN:VEVENT
DTSTART;VALUE=DATE:20220919
DTEND;VALUE=DATE:20220924
DTSTAMP:20260422T144924
CREATED:20200918T090738Z
LAST-MODIFIED:20220904T193231Z
UID:1989-1663545600-1663977599@lyceeleolagrange.fr
SUMMARY:Élections des délégués de classes
DESCRIPTION:Délégué de classe au lycée : pour quoi pas moi ? \nViews: 3
URL:https://lyceeleolagrange.fr/event/elections-des-delegues-de-classes/
END:VEVENT
BEGIN:VEVENT
DTSTART;VALUE=DATE:20220919
DTEND;VALUE=DATE:20220924
DTSTAMP:20260422T144924
CREATED:20200918T091402Z
LAST-MODIFIED:20220904T194308Z
UID:1997-1663545600-1663977599@lyceeleolagrange.fr
SUMMARY:Tests d'entrée en 2de
DESCRIPTION:Tests de positionnement nationaux en 2de. \nViews: 3
URL:https://lyceeleolagrange.fr/event/tests-dentree-en-2de/
END:VEVENT
BEGIN:VEVENT
DTSTART;VALUE=DATE:20220919
DTEND;VALUE=DATE:20220924
DTSTAMP:20260422T144924
CREATED:20200923T132526Z
LAST-MODIFIED:20220904T193249Z
UID:2140-1663545600-1663977599@lyceeleolagrange.fr
SUMMARY:Élections des ECO-délégués
DESCRIPTION:Élections des ECO-délégués \nViews: 3
URL:https://lyceeleolagrange.fr/event/election-des-eco-delegues/
END:VEVENT
BEGIN:VEVENT
DTSTART;VALUE=DATE:20220921
DTEND;VALUE=DATE:20220922
DTSTAMP:20260422T144924
CREATED:20200911T104450Z
LAST-MODIFIED:20220904T194613Z
UID:1883-1663718400-1663804799@lyceeleolagrange.fr
SUMMARY:Journée nationale du sport scolaire
DESCRIPTION:La 11e édition de la Journée nationale du sport scolaire a lieu le Mercredi 21 septembre 2022 sur le thème de la santé et de la reprise d’activité physique avec plus de 6 500 opérations mises en place – forums\, tournois\, rencontres – et plus d’1 million d’élèves mobilisés dans toutes les académies. \nDemandez le programme ! L’équipe d’EPS de Léo vous réserve de grands temps forts. Faites vous plaisir\, découvrez\, participez ! \n  \nViews: 3
URL:https://lyceeleolagrange.fr/event/journee-nationale-du-sport-scolaire/
END:VEVENT
BEGIN:VEVENT
DTSTART;TZID=Europe/Helsinki:20220922T180000
DTEND;TZID=Europe/Helsinki:20220922T190000
DTSTAMP:20260422T144924
CREATED:20200920T115409Z
LAST-MODIFIED:20220904T192503Z
UID:2088-1663869600-1663873200@lyceeleolagrange.fr
SUMMARY:Réunion Parents volontaires désirant être représentants
DESCRIPTION:La Direction du lycée organise une réunion d’information pour les parents volontaires désirant être représentants. \n18h en salle Polyvalente. \nViews: 3
URL:https://lyceeleolagrange.fr/event/reunion-parents-volontaires-desirant-etre-representants/
END:VEVENT
BEGIN:VEVENT
DTSTART;VALUE=DATE:20220926
DTEND;VALUE=DATE:20221001
DTSTAMP:20260422T144924
CREATED:20220904T194508Z
LAST-MODIFIED:20220904T194508Z
UID:4360-1664150400-1664582399@lyceeleolagrange.fr
SUMMARY:1ères - Evaluations Maths et Français
DESCRIPTION:Views: 3
URL:https://lyceeleolagrange.fr/event/1eres-evaluations-maths-et-francais/
END:VEVENT
BEGIN:VEVENT
DTSTART;VALUE=DATE:20220928
DTEND;VALUE=DATE:20220929
DTSTAMP:20260422T144924
CREATED:20210905T074030Z
LAST-MODIFIED:20220904T192301Z
UID:3469-1664323200-1664409599@lyceeleolagrange.fr
SUMMARY:Remise des PC portable 2de
DESCRIPTION:La région Ile de France équipe les élèves de lycée professionnel entrants en 2de d’un PC portable\, outil indispensable pour le travail en classe et à la maison. \nViews: 3
URL:https://lyceeleolagrange.fr/event/remise-des-pc-portable-2de/
END:VEVENT
BEGIN:VEVENT
DTSTART;VALUE=DATE:20220928
DTEND;VALUE=DATE:20220929
DTSTAMP:20260422T144924
CREATED:20220913T071427Z
LAST-MODIFIED:20220926T191550Z
UID:4386-1664323200-1664409599@lyceeleolagrange.fr
SUMMARY:Ateliers de recrutement - Terminales
DESCRIPTION:Dans le but d’accompagner au mieux nos élèves de Terminale dans leur recherche de PFMP et de les sensibiliser aux attentes du monde professionnel\, l’action « Les Ateliers de recrutement » sera reconduite cette année. \nCette édition 2022 se tiendra le mercredi 28 septembre au lycée. \nUn moment privilégié au cours duquel nous aurons le plaisir d’accueillir des professionnels afin qu’ils puissent partager leur expérience avec nos élèves\, mais également animer des ateliers autour du recrutement. \n \n\n\n\n\nViews: 3
URL:https://lyceeleolagrange.fr/event/ateliers-de-recrutement-terminales/
END:VEVENT
END:VCALENDAR