BEGIN:VCALENDAR
VERSION:2.0
PRODID:-//Lycée L. Lagrange - Bondy - ECPv6.15.20//NONSGML v1.0//EN
CALSCALE:GREGORIAN
METHOD:PUBLISH
X-WR-CALNAME:Lycée L. Lagrange - Bondy
X-ORIGINAL-URL:https://lyceeleolagrange.fr
X-WR-CALDESC:Évènements pour Lycée L. Lagrange - Bondy
REFRESH-INTERVAL;VALUE=DURATION:PT1H
X-Robots-Tag:noindex
X-PUBLISHED-TTL:PT1H
BEGIN:VTIMEZONE
TZID:Europe/Helsinki
BEGIN:DAYLIGHT
TZOFFSETFROM:+0200
TZOFFSETTO:+0300
TZNAME:EEST
DTSTART:20210328T010000
END:DAYLIGHT
BEGIN:STANDARD
TZOFFSETFROM:+0300
TZOFFSETTO:+0200
TZNAME:EET
DTSTART:20211031T010000
END:STANDARD
BEGIN:DAYLIGHT
TZOFFSETFROM:+0200
TZOFFSETTO:+0300
TZNAME:EEST
DTSTART:20220327T010000
END:DAYLIGHT
BEGIN:STANDARD
TZOFFSETFROM:+0300
TZOFFSETTO:+0200
TZNAME:EET
DTSTART:20221030T010000
END:STANDARD
BEGIN:DAYLIGHT
TZOFFSETFROM:+0200
TZOFFSETTO:+0300
TZNAME:EEST
DTSTART:20230326T010000
END:DAYLIGHT
BEGIN:STANDARD
TZOFFSETFROM:+0300
TZOFFSETTO:+0200
TZNAME:EET
DTSTART:20231029T010000
END:STANDARD
END:VTIMEZONE
BEGIN:VEVENT
DTSTART;TZID=Europe/Helsinki:20220401T101500
DTEND;TZID=Europe/Helsinki:20220401T123000
DTSTAMP:20260422T220243
CREATED:20211017T123733Z
LAST-MODIFIED:20220328T080833Z
UID:3573-1648808100-1648816200@lyceeleolagrange.fr
SUMMARY:Sortie : "Médiathèque de Bondy" - 2F+1GA1
DESCRIPTION:2F et 9 élèves de 1GA1. \n  \nViews: 3
URL:https://lyceeleolagrange.fr/event/sortie-mediatheque-de-bondy-1ga2/
END:VEVENT
BEGIN:VEVENT
DTSTART;VALUE=DATE:20220404
DTEND;VALUE=DATE:20220409
DTSTAMP:20260422T220243
CREATED:20201106T094541Z
LAST-MODIFIED:20220306T113003Z
UID:2492-1649030400-1649462399@lyceeleolagrange.fr
SUMMARY:Examens d'essai : 2de- 1ère - Term
DESCRIPTION:Examens d’essai : Premières & Terminales\nExamen d’essai du chef d’œuvre : Terminales\nDC français & maths / Course d’orientation : Secondes\nEntretiens de positionnement : 2MRC \n  \nViews: 3
URL:https://lyceeleolagrange.fr/event/bac-blanc-terminales/
END:VEVENT
BEGIN:VEVENT
DTSTART;VALUE=DATE:20220406
DTEND;VALUE=DATE:20220407
DTSTAMP:20260422T220243
CREATED:20220306T113202Z
LAST-MODIFIED:20220328T075642Z
UID:4020-1649203200-1649289599@lyceeleolagrange.fr
SUMMARY:1V - Sortie à la Philharmonie
DESCRIPTION:Chef d’œuvre « le jeu » \nConcert éducatif à la Philharmonie de Paris- ainsi que le 6 avril au matin. \nViews: 3
URL:https://lyceeleolagrange.fr/event/1v-sortie-a-la-philharmonie/
END:VEVENT
BEGIN:VEVENT
DTSTART;VALUE=DATE:20220411
DTEND;VALUE=DATE:20220417
DTSTAMP:20260422T220243
CREATED:20210511T073842Z
LAST-MODIFIED:20220321T082535Z
UID:3279-1649635200-1650153599@lyceeleolagrange.fr
SUMMARY:Semaine de la Persévérance Scolaire 2022
DESCRIPTION:http://orientation.ac-creteil.fr/semaine-de-perseverance-scolaire-2022/ \nViews: 3
URL:https://lyceeleolagrange.fr/event/semaine-de-la-perseverance-scolaire-2021/
END:VEVENT
BEGIN:VEVENT
DTSTART;VALUE=DATE:20220420
DTEND;VALUE=DATE:20220422
DTSTAMP:20260422T220243
CREATED:20220328T080443Z
LAST-MODIFIED:20220328T080443Z
UID:4091-1650412800-1650585599@lyceeleolagrange.fr
SUMMARY:Sortie à Marseille
DESCRIPTION:Pour les élèves de l’option SPORT. \nViews: 3
URL:https://lyceeleolagrange.fr/event/sortie-a-marseille/
END:VEVENT
END:VCALENDAR