BEGIN:VCALENDAR
VERSION:2.0
PRODID:-//Lycée L. Lagrange - Bondy - ECPv6.15.20//NONSGML v1.0//EN
CALSCALE:GREGORIAN
METHOD:PUBLISH
X-WR-CALNAME:Lycée L. Lagrange - Bondy
X-ORIGINAL-URL:https://lyceeleolagrange.fr
X-WR-CALDESC:Évènements pour Lycée L. Lagrange - Bondy
REFRESH-INTERVAL;VALUE=DURATION:PT1H
X-Robots-Tag:noindex
X-PUBLISHED-TTL:PT1H
BEGIN:VTIMEZONE
TZID:Europe/Helsinki
BEGIN:DAYLIGHT
TZOFFSETFROM:+0200
TZOFFSETTO:+0300
TZNAME:EEST
DTSTART:20220327T010000
END:DAYLIGHT
BEGIN:STANDARD
TZOFFSETFROM:+0300
TZOFFSETTO:+0200
TZNAME:EET
DTSTART:20221030T010000
END:STANDARD
BEGIN:DAYLIGHT
TZOFFSETFROM:+0200
TZOFFSETTO:+0300
TZNAME:EEST
DTSTART:20230326T010000
END:DAYLIGHT
BEGIN:STANDARD
TZOFFSETFROM:+0300
TZOFFSETTO:+0200
TZNAME:EET
DTSTART:20231029T010000
END:STANDARD
BEGIN:DAYLIGHT
TZOFFSETFROM:+0200
TZOFFSETTO:+0300
TZNAME:EEST
DTSTART:20240331T010000
END:DAYLIGHT
BEGIN:STANDARD
TZOFFSETFROM:+0300
TZOFFSETTO:+0200
TZNAME:EET
DTSTART:20241027T010000
END:STANDARD
END:VTIMEZONE
BEGIN:VEVENT
DTSTART;TZID=Europe/Helsinki:20230118T000000
DTEND;TZID=Europe/Helsinki:20230309T235959
DTSTAMP:20260422T082828
CREATED:20230102T171942Z
LAST-MODIFIED:20230102T172109Z
UID:4918-1674000000-1678406399@lyceeleolagrange.fr
SUMMARY:ParcourSup : Saisi des vœux
DESCRIPTION:Views: 3
URL:https://lyceeleolagrange.fr/event/parcoursup-saisi-des-voeux/
END:VEVENT
BEGIN:VEVENT
DTSTART;VALUE=DATE:20230202
DTEND;VALUE=DATE:20230204
DTSTAMP:20260422T082828
CREATED:20211210T201843Z
LAST-MODIFIED:20230201T131055Z
UID:3760-1675296000-1675468799@lyceeleolagrange.fr
SUMMARY:Noël solidaire : bourse aux jouets & vêtements
DESCRIPTION:16h30-19h30 : Ouverture aux familles ! Venez nombreux ! \nEquipe EEDD \n \nViews: 3
URL:https://lyceeleolagrange.fr/event/noel-solidaire-bourse-aux-jouets-vetements/
END:VEVENT
BEGIN:VEVENT
DTSTART;TZID=Europe/Helsinki:20230202T190000
DTEND;TZID=Europe/Helsinki:20230202T203000
DTSTAMP:20260422T082828
CREATED:20230129T165952Z
LAST-MODIFIED:20230129T165952Z
UID:5069-1675364400-1675369800@lyceeleolagrange.fr
SUMMARY:Réunion parents pour le voyage en Italie
DESCRIPTION:Jeudi 2/02 18h-19h30 \nRéunion parents pour le voyage en Italie \nÉlèves inscrits / Accompagnateurs \nViews: 3
URL:https://lyceeleolagrange.fr/event/reunion-parents-pour-le-voyage-en-italie/
END:VEVENT
END:VCALENDAR