BEGIN:VCALENDAR
VERSION:2.0
PRODID:-//Lycée L. Lagrange - Bondy - ECPv6.15.20//NONSGML v1.0//EN
CALSCALE:GREGORIAN
METHOD:PUBLISH
X-WR-CALNAME:Lycée L. Lagrange - Bondy
X-ORIGINAL-URL:https://lyceeleolagrange.fr
X-WR-CALDESC:Évènements pour Lycée L. Lagrange - Bondy
REFRESH-INTERVAL;VALUE=DURATION:PT1H
X-Robots-Tag:noindex
X-PUBLISHED-TTL:PT1H
BEGIN:VTIMEZONE
TZID:Europe/Helsinki
BEGIN:DAYLIGHT
TZOFFSETFROM:+0200
TZOFFSETTO:+0300
TZNAME:EEST
DTSTART:20210328T010000
END:DAYLIGHT
BEGIN:STANDARD
TZOFFSETFROM:+0300
TZOFFSETTO:+0200
TZNAME:EET
DTSTART:20211031T010000
END:STANDARD
BEGIN:DAYLIGHT
TZOFFSETFROM:+0200
TZOFFSETTO:+0300
TZNAME:EEST
DTSTART:20220327T010000
END:DAYLIGHT
BEGIN:STANDARD
TZOFFSETFROM:+0300
TZOFFSETTO:+0200
TZNAME:EET
DTSTART:20221030T010000
END:STANDARD
BEGIN:DAYLIGHT
TZOFFSETFROM:+0200
TZOFFSETTO:+0300
TZNAME:EEST
DTSTART:20230326T010000
END:DAYLIGHT
BEGIN:STANDARD
TZOFFSETFROM:+0300
TZOFFSETTO:+0200
TZNAME:EET
DTSTART:20231029T010000
END:STANDARD
END:VTIMEZONE
BEGIN:VEVENT
DTSTART;TZID=Europe/Helsinki:20221201T000000
DTEND;TZID=Europe/Helsinki:20221208T235959
DTSTAMP:20260422T113322
CREATED:20221120T132510Z
LAST-MODIFIED:20221120T132512Z
UID:4733-1669852800-1670543999@lyceeleolagrange.fr
SUMMARY:Élections professionnelles
DESCRIPTION:Views: 3
URL:https://lyceeleolagrange.fr/event/elections-professionnelles/
END:VEVENT
BEGIN:VEVENT
DTSTART;VALUE=DATE:20221205
DTEND;VALUE=DATE:20221210
DTSTAMP:20260422T113322
CREATED:20201130T095033Z
LAST-MODIFIED:20221204T175653Z
UID:2576-1670198400-1670630399@lyceeleolagrange.fr
SUMMARY:Semaine de la Tolérance & Laïcité
DESCRIPTION:ACTION 1 : CDI et hall \n\n\n\nACTION 2 : CHALLENGE TOLERANCE – EDITION 2022 \n\n\n\n \n\n\n\nACTION 3 :COURSE D’ORIENTATIONTOURNOI DE BADMINTON \n\n\n\n \n\n\n\nACTION 4 :LAÏCITE EN ENTREPRISE /LAÏCITE AU LYCEE LEO LAGRANGE \n\n\n\n \n\n\n\nACTION 5 : NOEL SOLIDAIRE \n\n\n\n \n\n\n\n\n\n\n\n\nViews: 3
URL:https://lyceeleolagrange.fr/event/journee-de-la-tolerance-laicite/
END:VEVENT
END:VCALENDAR