BEGIN:VCALENDAR
VERSION:2.0
PRODID:-//Lycée L. Lagrange - Bondy - ECPv6.15.20//NONSGML v1.0//EN
CALSCALE:GREGORIAN
METHOD:PUBLISH
X-WR-CALNAME:Lycée L. Lagrange - Bondy
X-ORIGINAL-URL:https://lyceeleolagrange.fr
X-WR-CALDESC:Évènements pour Lycée L. Lagrange - Bondy
REFRESH-INTERVAL;VALUE=DURATION:PT1H
X-Robots-Tag:noindex
X-PUBLISHED-TTL:PT1H
BEGIN:VTIMEZONE
TZID:Europe/Helsinki
BEGIN:DAYLIGHT
TZOFFSETFROM:+0200
TZOFFSETTO:+0300
TZNAME:EEST
DTSTART:20210328T010000
END:DAYLIGHT
BEGIN:STANDARD
TZOFFSETFROM:+0300
TZOFFSETTO:+0200
TZNAME:EET
DTSTART:20211031T010000
END:STANDARD
BEGIN:DAYLIGHT
TZOFFSETFROM:+0200
TZOFFSETTO:+0300
TZNAME:EEST
DTSTART:20220327T010000
END:DAYLIGHT
BEGIN:STANDARD
TZOFFSETFROM:+0300
TZOFFSETTO:+0200
TZNAME:EET
DTSTART:20221030T010000
END:STANDARD
BEGIN:DAYLIGHT
TZOFFSETFROM:+0200
TZOFFSETTO:+0300
TZNAME:EEST
DTSTART:20230326T010000
END:DAYLIGHT
BEGIN:STANDARD
TZOFFSETFROM:+0300
TZOFFSETTO:+0200
TZNAME:EET
DTSTART:20231029T010000
END:STANDARD
END:VTIMEZONE
BEGIN:VEVENT
DTSTART;TZID=Europe/Helsinki:20221121T000000
DTEND;TZID=Europe/Helsinki:20221125T235959
DTSTAMP:20260422T142428
CREATED:20210315T104215Z
LAST-MODIFIED:20221120T131455Z
UID:3008-1668988800-1669420799@lyceeleolagrange.fr
SUMMARY:Conseils de Classe 1er Trim – 2de
DESCRIPTION:Planning-conseils-de-classe-premier-trimestreTélécharger\n\n\n\n\n\n\nViews: 3
URL:https://lyceeleolagrange.fr/event/conseils-de-classe-2eme-t-2de/
END:VEVENT
BEGIN:VEVENT
DTSTART;TZID=Europe/Helsinki:20221122T083000
DTEND;TZID=Europe/Helsinki:20221122T170000
DTSTAMP:20260422T142428
CREATED:20221120T132212Z
LAST-MODIFIED:20221120T132607Z
UID:4729-1669105800-1669136400@lyceeleolagrange.fr
SUMMARY:1V - Sortie la Cité de l’Economie + Au Bon Marché
DESCRIPTION:Découverte du patrimoine culturel français. \n\n\n\nM. BelloumiMme Rezki \n\n\n\n\n\n\n\n\n\n\n\n \n\n\nViews: 3
URL:https://lyceeleolagrange.fr/event/1v-sortie-la-cite-de-leconomie-au-bon-marche/
END:VEVENT
END:VCALENDAR