BEGIN:VCALENDAR
VERSION:2.0
PRODID:-//Lycée L. Lagrange - Bondy - ECPv6.15.20//NONSGML v1.0//EN
CALSCALE:GREGORIAN
METHOD:PUBLISH
X-ORIGINAL-URL:https://lyceeleolagrange.fr
X-WR-CALDESC:Évènements pour Lycée L. Lagrange - Bondy
REFRESH-INTERVAL;VALUE=DURATION:PT1H
X-Robots-Tag:noindex
X-PUBLISHED-TTL:PT1H
BEGIN:VTIMEZONE
TZID:Europe/Helsinki
BEGIN:DAYLIGHT
TZOFFSETFROM:+0200
TZOFFSETTO:+0300
TZNAME:EEST
DTSTART:20210328T010000
END:DAYLIGHT
BEGIN:STANDARD
TZOFFSETFROM:+0300
TZOFFSETTO:+0200
TZNAME:EET
DTSTART:20211031T010000
END:STANDARD
BEGIN:DAYLIGHT
TZOFFSETFROM:+0200
TZOFFSETTO:+0300
TZNAME:EEST
DTSTART:20220327T010000
END:DAYLIGHT
BEGIN:STANDARD
TZOFFSETFROM:+0300
TZOFFSETTO:+0200
TZNAME:EET
DTSTART:20221030T010000
END:STANDARD
BEGIN:DAYLIGHT
TZOFFSETFROM:+0200
TZOFFSETTO:+0300
TZNAME:EEST
DTSTART:20230326T010000
END:DAYLIGHT
BEGIN:STANDARD
TZOFFSETFROM:+0300
TZOFFSETTO:+0200
TZNAME:EET
DTSTART:20231029T010000
END:STANDARD
END:VTIMEZONE
BEGIN:VEVENT
DTSTART;TZID=Europe/Helsinki:20221010T103000
DTEND;TZID=Europe/Helsinki:20221010T123000
DTSTAMP:20260422T144905
CREATED:20211020T190708Z
LAST-MODIFIED:20220904T193337Z
UID:3581-1665397800-1665405000@lyceeleolagrange.fr
SUMMARY:Élections des élèves au CA
DESCRIPTION:Élections des membres élèves au Conseil d’Administration et à la Vice-présidence du CVL en salle polyvalente. \nViews: 3
URL:https://lyceeleolagrange.fr/event/elections-des-eleves-au-ca/
END:VEVENT
BEGIN:VEVENT
DTSTART;TZID=Europe/Helsinki:20221010T113000
DTEND;TZID=Europe/Helsinki:20221010T122500
DTSTAMP:20260422T144905
CREATED:20221010T081231Z
LAST-MODIFIED:20221010T081233Z
UID:4594-1665401400-1665404700@lyceeleolagrange.fr
SUMMARY:Evaluation de mathématiques 1ères
DESCRIPTION:1C1\, 1C21V\, 1GA11GA2\,1GA3 \n\n\n\n\n\n\n\n\n\n\nViews: 3
URL:https://lyceeleolagrange.fr/event/evaluation-de-mathematiques-1eres/
END:VEVENT
END:VCALENDAR