BEGIN:VCALENDAR
VERSION:2.0
PRODID:-//Lycée L. Lagrange - Bondy - ECPv6.15.20//NONSGML v1.0//EN
CALSCALE:GREGORIAN
METHOD:PUBLISH
X-ORIGINAL-URL:https://lyceeleolagrange.fr
X-WR-CALDESC:Évènements pour Lycée L. Lagrange - Bondy
REFRESH-INTERVAL;VALUE=DURATION:PT1H
X-Robots-Tag:noindex
X-PUBLISHED-TTL:PT1H
BEGIN:VTIMEZONE
TZID:Europe/Helsinki
BEGIN:DAYLIGHT
TZOFFSETFROM:+0200
TZOFFSETTO:+0300
TZNAME:EEST
DTSTART:20210328T010000
END:DAYLIGHT
BEGIN:STANDARD
TZOFFSETFROM:+0300
TZOFFSETTO:+0200
TZNAME:EET
DTSTART:20211031T010000
END:STANDARD
BEGIN:DAYLIGHT
TZOFFSETFROM:+0200
TZOFFSETTO:+0300
TZNAME:EEST
DTSTART:20220327T010000
END:DAYLIGHT
BEGIN:STANDARD
TZOFFSETFROM:+0300
TZOFFSETTO:+0200
TZNAME:EET
DTSTART:20221030T010000
END:STANDARD
BEGIN:DAYLIGHT
TZOFFSETFROM:+0200
TZOFFSETTO:+0300
TZNAME:EEST
DTSTART:20230326T010000
END:DAYLIGHT
BEGIN:STANDARD
TZOFFSETFROM:+0300
TZOFFSETTO:+0200
TZNAME:EET
DTSTART:20231029T010000
END:STANDARD
END:VTIMEZONE
BEGIN:VEVENT
DTSTART;VALUE=DATE:20221006
DTEND;VALUE=DATE:20221007
DTSTAMP:20260422T144823
CREATED:20200918T090533Z
LAST-MODIFIED:20220904T193414Z
UID:1985-1665014400-1665100799@lyceeleolagrange.fr
SUMMARY:Élections Représentants des personnels
DESCRIPTION:Views: 3
URL:https://lyceeleolagrange.fr/event/elections-representants-des-personnels/
END:VEVENT
BEGIN:VEVENT
DTSTART;VALUE=DATE:20221006
DTEND;VALUE=DATE:20221007
DTSTAMP:20260422T144823
CREATED:20200918T090809Z
LAST-MODIFIED:20220904T193205Z
UID:1991-1665014400-1665100799@lyceeleolagrange.fr
SUMMARY:Élections du CVL - Pronote
DESCRIPTION:Il s’agit d’un vote numérique par le biais de PRONOTE.\nViews: 3
URL:https://lyceeleolagrange.fr/event/elections-du-cvl/
END:VEVENT
BEGIN:VEVENT
DTSTART;TZID=Europe/Helsinki:20221006T073000
DTEND;TZID=Europe/Helsinki:20221006T173000
DTSTAMP:20260422T144823
CREATED:20221002T085358Z
LAST-MODIFIED:20221002T085359Z
UID:4519-1665041400-1665077400@lyceeleolagrange.fr
SUMMARY:TGA2 - Sortie KPMG
DESCRIPTION:Découverte de l’entreprise KPMG. \n\n\n\nMme Hergault / Mme Hajjar \n\n\n\n\n\n\n\n\n\n\nViews: 3
URL:https://lyceeleolagrange.fr/event/tga2-sortie-kpmg/
END:VEVENT
BEGIN:VEVENT
DTSTART;TZID=Europe/Helsinki:20221006T083000
DTEND;TZID=Europe/Helsinki:20221006T180000
DTSTAMP:20260422T144823
CREATED:20221002T085557Z
LAST-MODIFIED:20221002T085559Z
UID:4521-1665045000-1665079200@lyceeleolagrange.fr
SUMMARY:TC1/TC2 - Sortie au Salon de l'emploi\,
DESCRIPTION:Concorde \n\n\n\n\n\nParis Place de la Concorde.  \n\n\n\nM. Dieye / Mme Foudi / Mme Mokhfi / M. Ziane \n\n\n\n\n\n\n\n\n\n\nViews: 3
URL:https://lyceeleolagrange.fr/event/tc1-tc2-sortie-au-salon-de-lemploi/
END:VEVENT
END:VCALENDAR