BEGIN:VCALENDAR
VERSION:2.0
PRODID:-//Lycée L. Lagrange - Bondy - ECPv6.15.20//NONSGML v1.0//EN
CALSCALE:GREGORIAN
METHOD:PUBLISH
X-WR-CALNAME:Lycée L. Lagrange - Bondy
X-ORIGINAL-URL:https://lyceeleolagrange.fr
X-WR-CALDESC:Évènements pour Lycée L. Lagrange - Bondy
REFRESH-INTERVAL;VALUE=DURATION:PT1H
X-Robots-Tag:noindex
X-PUBLISHED-TTL:PT1H
BEGIN:VTIMEZONE
TZID:Europe/Helsinki
BEGIN:DAYLIGHT
TZOFFSETFROM:+0200
TZOFFSETTO:+0300
TZNAME:EEST
DTSTART:20210328T010000
END:DAYLIGHT
BEGIN:STANDARD
TZOFFSETFROM:+0300
TZOFFSETTO:+0200
TZNAME:EET
DTSTART:20211031T010000
END:STANDARD
BEGIN:DAYLIGHT
TZOFFSETFROM:+0200
TZOFFSETTO:+0300
TZNAME:EEST
DTSTART:20220327T010000
END:DAYLIGHT
BEGIN:STANDARD
TZOFFSETFROM:+0300
TZOFFSETTO:+0200
TZNAME:EET
DTSTART:20221030T010000
END:STANDARD
BEGIN:DAYLIGHT
TZOFFSETFROM:+0200
TZOFFSETTO:+0300
TZNAME:EEST
DTSTART:20230326T010000
END:DAYLIGHT
BEGIN:STANDARD
TZOFFSETFROM:+0300
TZOFFSETTO:+0200
TZNAME:EET
DTSTART:20231029T010000
END:STANDARD
END:VTIMEZONE
BEGIN:VEVENT
DTSTART;VALUE=DATE:20220926
DTEND;VALUE=DATE:20221001
DTSTAMP:20260422T144730
CREATED:20220904T194508Z
LAST-MODIFIED:20220904T194508Z
UID:4360-1664150400-1664582399@lyceeleolagrange.fr
SUMMARY:1ères - Evaluations Maths et Français
DESCRIPTION:Views: 3
URL:https://lyceeleolagrange.fr/event/1eres-evaluations-maths-et-francais/
END:VEVENT
BEGIN:VEVENT
DTSTART;VALUE=DATE:20220928
DTEND;VALUE=DATE:20220929
DTSTAMP:20260422T144730
CREATED:20210905T074030Z
LAST-MODIFIED:20220904T192301Z
UID:3469-1664323200-1664409599@lyceeleolagrange.fr
SUMMARY:Remise des PC portable 2de
DESCRIPTION:La région Ile de France équipe les élèves de lycée professionnel entrants en 2de d’un PC portable\, outil indispensable pour le travail en classe et à la maison. \nViews: 3
URL:https://lyceeleolagrange.fr/event/remise-des-pc-portable-2de/
END:VEVENT
BEGIN:VEVENT
DTSTART;VALUE=DATE:20220928
DTEND;VALUE=DATE:20220929
DTSTAMP:20260422T144730
CREATED:20220913T071427Z
LAST-MODIFIED:20220926T191550Z
UID:4386-1664323200-1664409599@lyceeleolagrange.fr
SUMMARY:Ateliers de recrutement - Terminales
DESCRIPTION:Dans le but d’accompagner au mieux nos élèves de Terminale dans leur recherche de PFMP et de les sensibiliser aux attentes du monde professionnel\, l’action « Les Ateliers de recrutement » sera reconduite cette année. \nCette édition 2022 se tiendra le mercredi 28 septembre au lycée. \nUn moment privilégié au cours duquel nous aurons le plaisir d’accueillir des professionnels afin qu’ils puissent partager leur expérience avec nos élèves\, mais également animer des ateliers autour du recrutement. \n \n\n\n\n\nViews: 3
URL:https://lyceeleolagrange.fr/event/ateliers-de-recrutement-terminales/
END:VEVENT
END:VCALENDAR