BEGIN:VCALENDAR
VERSION:2.0
PRODID:-//Lycée L. Lagrange - Bondy - ECPv6.15.20//NONSGML v1.0//EN
CALSCALE:GREGORIAN
METHOD:PUBLISH
X-ORIGINAL-URL:https://lyceeleolagrange.fr
X-WR-CALDESC:Évènements pour Lycée L. Lagrange - Bondy
REFRESH-INTERVAL;VALUE=DURATION:PT1H
X-Robots-Tag:noindex
X-PUBLISHED-TTL:PT1H
BEGIN:VTIMEZONE
TZID:Europe/Helsinki
BEGIN:DAYLIGHT
TZOFFSETFROM:+0200
TZOFFSETTO:+0300
TZNAME:EEST
DTSTART:20210328T010000
END:DAYLIGHT
BEGIN:STANDARD
TZOFFSETFROM:+0300
TZOFFSETTO:+0200
TZNAME:EET
DTSTART:20211031T010000
END:STANDARD
BEGIN:DAYLIGHT
TZOFFSETFROM:+0200
TZOFFSETTO:+0300
TZNAME:EEST
DTSTART:20220327T010000
END:DAYLIGHT
BEGIN:STANDARD
TZOFFSETFROM:+0300
TZOFFSETTO:+0200
TZNAME:EET
DTSTART:20221030T010000
END:STANDARD
BEGIN:DAYLIGHT
TZOFFSETFROM:+0200
TZOFFSETTO:+0300
TZNAME:EEST
DTSTART:20230326T010000
END:DAYLIGHT
BEGIN:STANDARD
TZOFFSETFROM:+0300
TZOFFSETTO:+0200
TZNAME:EET
DTSTART:20231029T010000
END:STANDARD
END:VTIMEZONE
BEGIN:VEVENT
DTSTART;VALUE=DATE:20220523
DTEND;VALUE=DATE:20220603
DTSTAMP:20260422T220539
CREATED:20220508T165110Z
LAST-MODIFIED:20220508T165110Z
UID:4166-1653264000-1654214399@lyceeleolagrange.fr
SUMMARY:Objectif 1er Emploi : s'insérer après le BAC !
DESCRIPTION:Renseignez-vous ! \nEMPLOI pour les élèves de terminales qui souhaitent s’insérer après le baccalauréat. \nRetour à faire pour le 10/05/22 \nAide à l’insertion des élèves de terminale professionnelle BAC PRO\, CAP\, BMA\, MC –\nDispositif Objectif 1er emploi [Adecco / Région académique Ile-de-France] et participation de Sciences Po. \nDates proposées : lundi 23/05 \, mercredi 25/05\, mercredi 1/06\, jeudi 2 juin \nPossibilités jusqu’à deux groupes de 20 élèves\n4 modules de 1h30 soit 6h par groupes en 2 fois 3h \nViews: 3
URL:https://lyceeleolagrange.fr/event/objectif-1er-emploi-sinserer-apres-le-bac/
END:VEVENT
BEGIN:VEVENT
DTSTART;TZID=Europe/Helsinki:20220524T132000
DTEND;TZID=Europe/Helsinki:20220524T170000
DTSTAMP:20260422T220539
CREATED:20220508T165448Z
LAST-MODIFIED:20220508T165448Z
UID:4168-1653398400-1653411600@lyceeleolagrange.fr
SUMMARY:1C2- Explosion végétale
DESCRIPTION:« Explosion végétale » à la Villette : visite des jardins et atelier pratique sur la botanique. \nMme Tornare / Mme Zeraoui \nViews: 3
URL:https://lyceeleolagrange.fr/event/1c2-explosion-vegetale/
END:VEVENT
END:VCALENDAR