BEGIN:VCALENDAR
VERSION:2.0
PRODID:-//Lycée L. Lagrange - Bondy - ECPv6.15.20//NONSGML v1.0//EN
CALSCALE:GREGORIAN
METHOD:PUBLISH
X-WR-CALNAME:Lycée L. Lagrange - Bondy
X-ORIGINAL-URL:https://lyceeleolagrange.fr
X-WR-CALDESC:Évènements pour Lycée L. Lagrange - Bondy
REFRESH-INTERVAL;VALUE=DURATION:PT1H
X-Robots-Tag:noindex
X-PUBLISHED-TTL:PT1H
BEGIN:VTIMEZONE
TZID:Europe/Helsinki
BEGIN:DAYLIGHT
TZOFFSETFROM:+0200
TZOFFSETTO:+0300
TZNAME:EEST
DTSTART:20210328T010000
END:DAYLIGHT
BEGIN:STANDARD
TZOFFSETFROM:+0300
TZOFFSETTO:+0200
TZNAME:EET
DTSTART:20211031T010000
END:STANDARD
BEGIN:DAYLIGHT
TZOFFSETFROM:+0200
TZOFFSETTO:+0300
TZNAME:EEST
DTSTART:20220327T010000
END:DAYLIGHT
BEGIN:STANDARD
TZOFFSETFROM:+0300
TZOFFSETTO:+0200
TZNAME:EET
DTSTART:20221030T010000
END:STANDARD
BEGIN:DAYLIGHT
TZOFFSETFROM:+0200
TZOFFSETTO:+0300
TZNAME:EEST
DTSTART:20230326T010000
END:DAYLIGHT
BEGIN:STANDARD
TZOFFSETFROM:+0300
TZOFFSETTO:+0200
TZNAME:EET
DTSTART:20231029T010000
END:STANDARD
END:VTIMEZONE
BEGIN:VEVENT
DTSTART;TZID=Europe/Helsinki:20220509T103000
DTEND;TZID=Europe/Helsinki:20220509T123000
DTSTAMP:20260422T220242
CREATED:20220508T170526Z
LAST-MODIFIED:20220508T170526Z
UID:4176-1652092200-1652099400@lyceeleolagrange.fr
SUMMARY:Conférence sur l'Ukraine
DESCRIPTION:Une conférence intitulée 12 questions comme trait d’union pour l’Ukraine se déroulera en salle polyvalente de 10h30 à 12h30. \nIsabelle KERDUDO\, animera cette conférence. Elle est enseignante universitaire\, elle a récemment été chargée de mission au parlement de Strasbourg . Auparavant\, elle a exercé plusieurs années à la Maison de Jean Monnet à Houjarray en tant que conférencière à destination des enseignants et des lycéens de la Région Ile-de-France. \n  \nViews: 3
URL:https://lyceeleolagrange.fr/event/conference-sur-lukraine/
END:VEVENT
END:VCALENDAR