BEGIN:VCALENDAR
VERSION:2.0
PRODID:-//Lycée L. Lagrange - Bondy - ECPv6.15.20//NONSGML v1.0//EN
CALSCALE:GREGORIAN
METHOD:PUBLISH
X-ORIGINAL-URL:https://lyceeleolagrange.fr
X-WR-CALDESC:Évènements pour Lycée L. Lagrange - Bondy
REFRESH-INTERVAL;VALUE=DURATION:PT1H
X-Robots-Tag:noindex
X-PUBLISHED-TTL:PT1H
BEGIN:VTIMEZONE
TZID:Europe/Helsinki
BEGIN:DAYLIGHT
TZOFFSETFROM:+0200
TZOFFSETTO:+0300
TZNAME:EEST
DTSTART:20210328T010000
END:DAYLIGHT
BEGIN:STANDARD
TZOFFSETFROM:+0300
TZOFFSETTO:+0200
TZNAME:EET
DTSTART:20211031T010000
END:STANDARD
BEGIN:DAYLIGHT
TZOFFSETFROM:+0200
TZOFFSETTO:+0300
TZNAME:EEST
DTSTART:20220327T010000
END:DAYLIGHT
BEGIN:STANDARD
TZOFFSETFROM:+0300
TZOFFSETTO:+0200
TZNAME:EET
DTSTART:20221030T010000
END:STANDARD
BEGIN:DAYLIGHT
TZOFFSETFROM:+0200
TZOFFSETTO:+0300
TZNAME:EEST
DTSTART:20230326T010000
END:DAYLIGHT
BEGIN:STANDARD
TZOFFSETFROM:+0300
TZOFFSETTO:+0200
TZNAME:EET
DTSTART:20231029T010000
END:STANDARD
END:VTIMEZONE
BEGIN:VEVENT
DTSTART;VALUE=DATE:20220411
DTEND;VALUE=DATE:20220417
DTSTAMP:20260423T012901
CREATED:20210511T073842Z
LAST-MODIFIED:20220321T082535Z
UID:3279-1649635200-1650153599@lyceeleolagrange.fr
SUMMARY:Semaine de la Persévérance Scolaire 2022
DESCRIPTION:http://orientation.ac-creteil.fr/semaine-de-perseverance-scolaire-2022/ \nViews: 3
URL:https://lyceeleolagrange.fr/event/semaine-de-la-perseverance-scolaire-2021/
END:VEVENT
END:VCALENDAR